{
 "currentVersion": 10.81,
 "serviceDescription": "test",
 "name": "test",
 "description": "",
 "extent": {
  "xmin": 1.6861381715633545E7,
  "ymin": -2822141.0797065445,
  "xmax": 1.6864944416267984E7,
  "ymax": -2818239.6456300924,
  "spatialReference": {
   "wkid": 102100,
   "latestWkid": 3857
  }
 },
 "initialExtent": {
  "xmin": 1.6861381715633545E7,
  "ymin": -2822141.0797065445,
  "xmax": 1.6864944416267984E7,
  "ymax": -2818239.6456300924,
  "spatialReference": {
   "wkid": 102100,
   "latestWkid": 3857
  }
 },
 "fullExtent": {
  "xmin": 1.6861381715633545E7,
  "ymin": -2822141.0797065445,
  "xmax": 1.6864944416267984E7,
  "ymax": -2818239.6456300924,
  "spatialReference": {
   "wkid": 102100,
   "latestWkid": 3857
  }
 },
 "pixelSizeX": 0.22239080115097032,
 "pixelSizeY": 0.22320693840907158,
 "bandCount": 4,
 "pixelType": "S32",
 "minPixelSize": 0,
 "maxPixelSize": 0,
 "copyrightText": "",
 "serviceDataType": "esriImageServiceDataTypeGeneric",
 "minValues": [
  2,
  3,
  3,
  1
 ],
 "maxValues": [
  228,
  220,
  209,
  222
 ],
 "meanValues": [
  46.19172142597554,
  50.10651303118669,
  38.73313981910628,
  133.09220503159548
 ],
 "stdvValues": [
  25.624767062423558,
  26.306007167464063,
  14.716920554068594,
  46.98831228704024
 ],
 "objectIdField": "",
 "fields": [],
 "capabilities": "Image,Metadata,Mensuration",
 "defaultMosaicMethod": "Center",
 "allowedMosaicMethods": "",
 "sortField": "",
 "sortValue": null,
 "sortAscending": true,
 "mosaicOperator": "First",
 "defaultCompressionQuality": 75,
 "defaultResamplingMethod": "Bilinear",
 "maxImageHeight": 4100,
 "maxImageWidth": 15000,
 "allowRasterFunction": true,
 "rasterFunctionInfos": [
  {
   "name": "None",
   "description": "",
   "help": ""
  }
 ],
 "rasterTypeInfos": [
  {
   "name": "Raster Dataset",
   "description": "Supports all ArcGIS Raster Datasets",
   "help": ""
  }
 ],
 "mensurationCapabilities": "Basic",
 "hasHistograms": true,
 "hasColormap": false,
 "hasRasterAttributeTable": false,
 "minScale": 0,
 "maxScale": 0,
 "exportTilesAllowed": false,
 "hasMultidimensions": false,
 "supportsStatistics": false,
 "supportsAdvancedQueries": false,
 "editFieldsInfo": null,
 "ownershipBasedAccessControlForRasters": null,
 "allowComputeTiePoints": false,
 "useStandardizedQueries": true,
 "advancedQueryCapabilities": {
  "useStandardizedQueries": true,
  "supportsStatistics": false,
  "supportsOrderBy": false,
  "supportsDistinct": false,
  "supportsPagination": false
 },
 "spatialReference": {
  "wkid": 102100,
  "latestWkid": 3857
 }
}
