View In:
ArcGIS JavaScript
ArcGIS Online Map Viewer
ArcGIS Earth
ArcMap
View Footprint In:
ArcGIS Online Map Viewer
Service Description: test
Name: test
Description:
Single Fused Map Cache: false
Extent:
XMin: 1.6861381715633545E7
YMin: -2822141.0797065445
XMax: 1.6864944416267984E7
YMax: -2818239.6456300924
Spatial Reference: 102100
(3857)
Initial Extent:
XMin: 1.6861381715633545E7
YMin: -2822141.0797065445
XMax: 1.6864944416267984E7
YMax: -2818239.6456300924
Spatial Reference: 102100
(3857)
Full Extent:
XMin: 1.6861381715633545E7
YMin: -2822141.0797065445
XMax: 1.6864944416267984E7
YMax: -2818239.6456300924
Spatial Reference: 102100
(3857)
Pixel Size X: 0.22239080115097032
Pixel Size Y: 0.22320693840907158
Band Count: 4
Pixel Type: S32
RasterFunction Infos: {"rasterFunctionInfos": [{
"name": "None",
"description": "",
"help": ""
}]}
Mensuration Capabilities: Basic
Has Histograms: true
Has Colormap: false
Has Multi Dimensions : false
Rendering Rule:
Min Scale: 0
Max Scale: 0
Copyright Text:
Service Data Type: esriImageServiceDataTypeGeneric
Min Values: 2, 3, 3, 1
Max Values: 228, 220, 209, 222
Mean Values: 46.19172142597554, 50.10651303118669, 38.73313981910628, 133.09220503159548
Standard Deviation Values: 25.624767062423558, 26.306007167464063, 14.716920554068594, 46.98831228704024
Object ID Field:
Fields:
None
Default Mosaic Method: Center
Allowed Mosaic Methods:
SortField:
SortValue: null
Mosaic Operator: First
Default Compression Quality: 75
Default Resampling Method: Bilinear
Max Record Count: null
Max Image Height: 4100
Max Image Width: 15000
Max Download Image Count: null
Max Mosaic Image Count: null
Allow Raster Function: true
Allow Copy: null
Allow Analysis: null
Allow Compute TiePoints: false
Supports Statistics: false
Supports Advanced Queries: false
Use StandardizedQueries: true
Raster Type Infos:
Name: Raster Dataset
Description: Supports all ArcGIS Raster Datasets
Help:
Has Raster Attribute Table: false
Edit Fields Info: null
Ownership Based AccessControl For Rasters: null
Child Resources:
Info
Histograms
Key Properties
Legend
Raster Function Infos
Supported Operations:
Export Image
Identify
Measure
Compute Histograms
Compute Statistics Histograms
Get Samples
Compute Class Statistics
Query Boundary
Compute Pixel Location
Validate
Project